BEGIN:VCALENDAR
VERSION:2.0
PRODID:-//Yangebup Baptist Church - ECPv4.9.9//NONSGML v1.0//EN
CALSCALE:GREGORIAN
METHOD:PUBLISH
X-WR-CALNAME:Yangebup Baptist Church
X-ORIGINAL-URL:http://yangebupbaptist.org.au
X-WR-CALDESC:Events for Yangebup Baptist Church
BEGIN:VTIMEZONE
TZID:Asia/Shanghai
BEGIN:STANDARD
TZOFFSETFROM:+0800
TZOFFSETTO:+0800
TZNAME:CST
DTSTART:20200101T000000
END:STANDARD
END:VTIMEZONE
BEGIN:VEVENT
DTSTART;TZID=Asia/Shanghai:20200105T100000
DTEND;TZID=Asia/Shanghai:20200105T111500
DTSTAMP:20200227T180319
CREATED:20191230T010759Z
LAST-MODIFIED:20200105T034608Z
UID:2482-1578218400-1578222900@yangebupbaptist.org.au
SUMMARY:The Year of the Lord's favour Luke 4: 31-37
DESCRIPTION:The Year of the Lord's favour Luke 4: 31-37\nMessage by Pastor Michael Lochore\n \n
URL:http://yangebupbaptist.org.au/event/luke-4-31-37/
END:VEVENT
END:VCALENDAR