BEGIN:VCALENDAR
VERSION:2.0
PRODID:-//Yangebup Baptist Church - ECPv4.9.9//NONSGML v1.0//EN
CALSCALE:GREGORIAN
METHOD:PUBLISH
X-WR-CALNAME:Yangebup Baptist Church
X-ORIGINAL-URL:http://yangebupbaptist.org.au
X-WR-CALDESC:Events for Yangebup Baptist Church
BEGIN:VTIMEZONE
TZID:Asia/Shanghai
BEGIN:STANDARD
TZOFFSETFROM:+0800
TZOFFSETTO:+0800
TZNAME:CST
DTSTART:20200101T000000
END:STANDARD
END:VTIMEZONE
BEGIN:VEVENT
DTSTART;TZID=Asia/Shanghai:20200301T100000
DTEND;TZID=Asia/Shanghai:20200301T111500
DTSTAMP:20200227T175331
CREATED:20200217T022840Z
LAST-MODIFIED:20200217T023142Z
UID:2517-1583056800-1583061300@yangebupbaptist.org.au
SUMMARY:Be Good Soil Luke 8: 1-21
DESCRIPTION:Be Good Soil Luke 8: 1-21\nMessage By Pastor Michael Lochore\n
URL:http://yangebupbaptist.org.au/event/luke-8-1-21/
END:VEVENT
END:VCALENDAR