BEGIN:VCALENDAR
VERSION:2.0
PRODID:-//Yangebup Baptist Church - ECPv4.9.9//NONSGML v1.0//EN
CALSCALE:GREGORIAN
METHOD:PUBLISH
X-WR-CALNAME:Yangebup Baptist Church
X-ORIGINAL-URL:http://yangebupbaptist.org.au
X-WR-CALDESC:Events for Yangebup Baptist Church
BEGIN:VTIMEZONE
TZID:Asia/Shanghai
BEGIN:STANDARD
TZOFFSETFROM:+0800
TZOFFSETTO:+0800
TZNAME:CST
DTSTART:20200101T000000
END:STANDARD
END:VTIMEZONE
BEGIN:VEVENT
DTSTART;TZID=Asia/Shanghai:20200202T100000
DTEND;TZID=Asia/Shanghai:20200202T111500
DTSTAMP:20200227T175735
CREATED:20200217T021335Z
LAST-MODIFIED:20200217T021335Z
UID:2508-1580637600-1580642100@yangebupbaptist.org.au
SUMMARY:Upside Down Happiness  Luke 6: 17-36
DESCRIPTION:Upside Down Happiness Luke 6: 17-36\nMessage By Pastor Michael Lochore\n \n
URL:http://yangebupbaptist.org.au/event/upside-down-happiness-luke-6-17-36/
END:VEVENT
END:VCALENDAR