BEGIN:VCALENDAR
VERSION:2.0
PRODID:-//Yangebup Baptist Church - ECPv4.9.9//NONSGML v1.0//EN
CALSCALE:GREGORIAN
METHOD:PUBLISH
X-WR-CALNAME:Yangebup Baptist Church
X-ORIGINAL-URL:http://yangebupbaptist.org.au
X-WR-CALDESC:Events for Yangebup Baptist Church
BEGIN:VTIMEZONE
TZID:Asia/Shanghai
BEGIN:STANDARD
TZOFFSETFROM:+0800
TZOFFSETTO:+0800
TZNAME:CST
DTSTART:20200101T000000
END:STANDARD
END:VTIMEZONE
BEGIN:VEVENT
DTSTART;TZID=Asia/Shanghai:20200308T100000
DTEND;TZID=Asia/Shanghai:20200308T111500
DTSTAMP:20200227T180853
CREATED:20200217T022939Z
LAST-MODIFIED:20200217T023004Z
UID:2519-1583661600-1583666100@yangebupbaptist.org.au
SUMMARY:Jesus and Shame Luke 8: 40-53
DESCRIPTION:Jesus and Shame Luke 8: 40-53\nMessage By Pastor Michael Lochore\n
URL:http://yangebupbaptist.org.au/event/jesus-and-shame-luke-8-40-53/
END:VEVENT
END:VCALENDAR