BEGIN:VCALENDAR
VERSION:2.0
PRODID:-//Yangebup Baptist Church - ECPv4.9.9//NONSGML v1.0//EN
CALSCALE:GREGORIAN
METHOD:PUBLISH
X-WR-CALNAME:Yangebup Baptist Church
X-ORIGINAL-URL:http://yangebupbaptist.org.au
X-WR-CALDESC:Events for Yangebup Baptist Church
BEGIN:VTIMEZONE
TZID:Asia/Shanghai
BEGIN:STANDARD
TZOFFSETFROM:+0800
TZOFFSETTO:+0800
TZNAME:CST
DTSTART:20200101T000000
END:STANDARD
END:VTIMEZONE
BEGIN:VEVENT
DTSTART;TZID=Asia/Shanghai:20200202T100000
DTEND;TZID=Asia/Shanghai:20200202T111500
DTSTAMP:20200227T172423
CREATED:20200217T021335Z
LAST-MODIFIED:20200217T021335Z
UID:2508-1580637600-1580642100@yangebupbaptist.org.au
SUMMARY:Upside Down Happiness  Luke 6: 17-36
DESCRIPTION:Upside Down Happiness Luke 6: 17-36\nMessage By Pastor Michael Lochore\n \n
URL:http://yangebupbaptist.org.au/event/upside-down-happiness-luke-6-17-36/
END:VEVENT
BEGIN:VEVENT
DTSTART;TZID=Asia/Shanghai:20200209T100000
DTEND;TZID=Asia/Shanghai:20200209T111500
DTSTAMP:20200227T172423
CREATED:20200217T022211Z
LAST-MODIFIED:20200217T024613Z
UID:2511-1581242400-1581246900@yangebupbaptist.org.au
SUMMARY:What Amazes Jesus Luke 7: 1-10
DESCRIPTION:What Amazes Jesus Luke 7: 1-10\nMessage By Geoff Wilson\n \n
URL:http://yangebupbaptist.org.au/event/luke-7-1-9/
END:VEVENT
BEGIN:VEVENT
DTSTART;TZID=Asia/Shanghai:20200216T100000
DTEND;TZID=Asia/Shanghai:20200216T111500
DTSTAMP:20200227T172423
CREATED:20200217T022646Z
LAST-MODIFIED:20200217T022646Z
UID:2513-1581847200-1581851700@yangebupbaptist.org.au
SUMMARY:Luke 6: 37-49 The Heart Of Conflict
DESCRIPTION:Luke 6: 37-49 The Heart Of Conflict\nMessage By Pastor Michael Lochore\n \n
URL:http://yangebupbaptist.org.au/event/luke-6-37-49-the-heart-of-conflict/
END:VEVENT
BEGIN:VEVENT
DTSTART;TZID=Asia/Shanghai:20200223T100000
DTEND;TZID=Asia/Shanghai:20200223T111500
DTSTAMP:20200227T172423
CREATED:20200217T022745Z
LAST-MODIFIED:20200217T023039Z
UID:2515-1582452000-1582456500@yangebupbaptist.org.au
SUMMARY:Jesus at a Party Luke 7: 31-50
DESCRIPTION:Jesus at a Party Luke 7: 31-50\nMessage By Pastor Michael Lochore\n
URL:http://yangebupbaptist.org.au/event/luke-7-31-50/
END:VEVENT
END:VCALENDAR